BEGIN:VCALENDAR
VERSION:2.0
PRODID:-//Stephen&#039;s Rise &amp; Grind - ECPv6.15.20//NONSGML v1.0//EN
CALSCALE:GREGORIAN
METHOD:PUBLISH
X-ORIGINAL-URL:https://stephensriseandgrind.org
X-WR-CALDESC:Events for Stephen&#039;s Rise &amp; Grind
REFRESH-INTERVAL;VALUE=DURATION:PT1H
X-Robots-Tag:noindex
X-PUBLISHED-TTL:PT1H
BEGIN:VTIMEZONE
TZID:UTC
BEGIN:STANDARD
TZOFFSETFROM:+0000
TZOFFSETTO:+0000
TZNAME:UTC
DTSTART:20210101T000000
END:STANDARD
END:VTIMEZONE
BEGIN:VEVENT
DTSTART;TZID=UTC:20221026T180000
DTEND;TZID=UTC:20221026T210000
DTSTAMP:20260419T220756
CREATED:20220930T202051Z
LAST-MODIFIED:20220930T202144Z
UID:11920-1666807200-1666818000@stephensriseandgrind.org
SUMMARY:Mental Health Resource Fair
DESCRIPTION:
URL:https://stephensriseandgrind.org/event/mental-health-resource-fair/
LOCATION:Upper Dublin High School
ATTACH;FMTTYPE=image/jpeg:https://stephensriseandgrind.org/wp-content/uploads/2022/09/Image.jpeg
END:VEVENT
END:VCALENDAR